{
 "currentVersion": 10.91,
 "cimVersion": "2.9.0",
 "serviceDescription": "Se establecen tres zonas, sobre las que se aplican distintas regulaciones:\n\n - Conservación y uso tradicional\n - Uso compatible\n - Uso especial\n\nAl existir distintas versiones de los límites de los espacios (original/ajustado/modificado), puede ser que la zonificación disponible no se corresponda exactamente con el último límite aprobado. Por este motivo se ha creado dentro del campo [TIPO_ZONA] la categoría \"Pendiente de zonificación\" para evitar superficie sin categorizar dentro de los límites del espacios. Así mismo, en los casos en los que la zonificación existente excede los límites de los espacios, se ha recortado. En el caso de los espacios coincidentes se ha mantenido la zonificación más restrictiva en el campo [TIPO_ZONA], indicando en el campo [OBSERV] la zonificación del otro espacio.\n\nFecha de actualización: Febrero 2022.\n\n",
 "mapName": "Capas",
 "description": "",
 "copyrightText": "Consejería de Desarrollo Sostenible. Dirección General de Medio Natural y Biodiversidad.",
 "supportsDynamicLayers": true,
 "layers": [
  {
   "id": 0,
   "name": "Red Natura 2000. Zonificación",
   "parentLayerId": -1,
   "defaultVisibility": true,
   "subLayerIds": null,
   "minScale": 0,
   "maxScale": 0,
   "type": "Feature Layer",
   "geometryType": "esriGeometryPolygon",
   "supportsDynamicLegends": true
  }
 ],
 "tables": [],
 "spatialReference": {
  "wkid": 25830,
  "latestWkid": 25830,
  "xyTolerance": 0.001,
  "zTolerance": 0.001,
  "mTolerance": 0.001,
  "falseX": -5120900,
  "falseY": -9998100,
  "xyUnits": 4.504455473910538E8,
  "falseZ": -100000,
  "zUnits": 10000,
  "falseM": -100000,
  "mUnits": 10000
 },
 "singleFusedMapCache": true,
 "tileInfo": {
  "rows": 256,
  "cols": 256,
  "dpi": 96,
  "format": "PNG32",
  "compressionQuality": 0,
  "origin": {
   "x": -5120900,
   "y": 9998100
  },
  "spatialReference": {
   "wkid": 25830,
   "latestWkid": 25830,
   "xyTolerance": 0.001,
   "zTolerance": 0.001,
   "mTolerance": 0.001,
   "falseX": -5120900,
   "falseY": -9998100,
   "xyUnits": 4.504455473910538E8,
   "falseZ": -100000,
   "zUnits": 10000,
   "falseM": -100000,
   "mUnits": 10000
  },
  "lods": [
   {
    "level": 0,
    "resolution": 611.4962262813797,
    "scale": 2311162.217155
   },
   {
    "level": 1,
    "resolution": 305.74811314055756,
    "scale": 1155581.108577
   },
   {
    "level": 2,
    "resolution": 152.87405657041106,
    "scale": 577790.554289
   },
   {
    "level": 3,
    "resolution": 76.43702828507324,
    "scale": 288895.277144
   },
   {
    "level": 4,
    "resolution": 38.21851414253662,
    "scale": 144447.638572
   },
   {
    "level": 5,
    "resolution": 19.10925707126831,
    "scale": 72223.819286
   },
   {
    "level": 6,
    "resolution": 9.554628535634155,
    "scale": 36111.909643
   },
   {
    "level": 7,
    "resolution": 4.77731426794937,
    "scale": 18055.954822
   },
   {
    "level": 8,
    "resolution": 2.388657141912201,
    "scale": 9027.977441
   },
   {
    "level": 9,
    "resolution": 1.1943285668550503,
    "scale": 4513.988705
   },
   {
    "level": 10,
    "resolution": 0.5971642835598172,
    "scale": 2256.994353
   }
  ]
 },
 "storageInfo": {
  "storageFormat": "esriMapCacheStorageModeCompactV2",
  "packetSize": 128
 },
 "initialExtent": {
  "xmin": 212673.06919751348,
  "ymin": 4328382.65980708,
  "xmax": 735168.3618301614,
  "ymax": 4584888.187130865,
  "spatialReference": {
   "wkid": 25830,
   "latestWkid": 25830,
   "xyTolerance": 0.001,
   "zTolerance": 0.001,
   "mTolerance": 0.001,
   "falseX": -5120900,
   "falseY": -9998100,
   "xyUnits": 4.504455473910538E8,
   "falseZ": -100000,
   "zUnits": 10000,
   "falseM": -100000,
   "mUnits": 10000
  }
 },
 "fullExtent": {
  "xmin": 295197.45799999963,
  "ymin": 4209418.1788,
  "xmax": 658679.3971999995,
  "ymax": 4571935.539799999,
  "spatialReference": {
   "wkid": 25830,
   "latestWkid": 25830,
   "xyTolerance": 0.001,
   "zTolerance": 0.001,
   "mTolerance": 0.001,
   "falseX": -5120900,
   "falseY": -9998100,
   "xyUnits": 4.504455473910538E8,
   "falseZ": -100000,
   "zUnits": 10000,
   "falseM": -100000,
   "mUnits": 10000
  }
 },
 "datesInUnknownTimezone": false,
 "minScale": 2311162.217155,
 "maxScale": 2256.994353,
 "units": "esriMeters",
 "supportedImageFormatTypes": "PNG32,PNG24,PNG,JPG,DIB,TIFF,EMF,PS,PDF,GIF,SVG,SVGZ,BMP",
 "documentInfo": {
  "Title": "RN2000_Zonificación",
  "Author": "",
  "Comments": "Se establecen tres zonas, sobre las que se aplican distintas regulaciones:\n\n - Conservación y uso tradicional\n - Uso compatible\n - Uso especial\n\nAl existir distintas versiones de los límites de los espacios (original/ajustado/modificado), puede ser que la zonificación disponible no se corresponda exactamente con el último límite aprobado. Por este motivo se ha creado dentro del campo [TIPO_ZONA] la categoría \"Pendiente de zonificación\" para evitar superficie sin categorizar dentro de los límites del espacios. Así mismo, en los casos en los que la zonificación existente excede los límites de los espacios, se ha recortado. En el caso de los espacios coincidentes se ha mantenido la zonificación más restrictiva en el campo [TIPO_ZONA], indicando en el campo [OBSERV] la zonificación del otro espacio.\n\nFecha de actualización: Febrero 2022.\n\n",
  "Subject": "Zonificación de los espacios Red Natura 2000 en función de su valor ecológico.",
  "Category": "",
  "AntialiasingMode": "None",
  "TextAntialiasingMode": "Force",
  "Version": "10.1",
  "Keywords": " medio natural,castilla-la mancha,desarrollosostenible,jccm,medio natural,MedioAmbiente,Red de Áreas Protegidas,Red Natura 2000,RN2000,ZEC,ZEPA"
 },
 "supportsQueryDomains": true,
 "capabilities": "Map,Query,Data",
 "supportedQueryFormats": "JSON, geoJSON, PBF",
 "exportTilesAllowed": false,
 "referenceScale": 0.0,
 "supportsDatumTransformation": true,
 "archivingInfo": {
  "supportsHistoricMoment": false
 },
 "supportsClipping": true,
 "supportsSpatialFilter": true,
 "supportsTimeRelation": true,
 "supportsQueryDataElements": true,
 "maxRecordCount": 1000,
 "maxImageHeight": 4096,
 "maxImageWidth": 4096,
 "supportedExtensions": "KmlServer, WMSServer"
}
