{
 "currentVersion": 10.91,
 "serviceDescription": "La Ley 5/2020 de Medidas Urgentes para la Declaración de Proyectos Prioritarios en Castilla - La Mancha, clasifica el territorio de la Comunidad Autónoma en función de los condicionantes ambientales a los que se puede ver sometido un proyecto por su ubicación, sin perjucio de los resultados de los procedimientos de evalución ambiental a que deba someterse cada proyecto:\n\n - ZONAS APTAS: el territorio de la CCAA no incluido en las otras zonas, que cuenta con recursos naturales no sometidos a regulación específica ambiental y por lo tanto es apto para la absorción de proyectos empresariales o industriales.\n\n - ZONAS POTENCIALMENTE APTAS PERO CON LIMITACIONES AMBIENTALES: zonas con recursos naturales de interés general para la protección de determinados valores naturales que deben considerarse aptas para la absorción de determinados proyectos con condicionantes ambientales.\n \n - ZONAS SOMETIDAS A REGULACIÓN ESPECÍFICA AMBIENTAL: zonas que albergan valores ambientales especialmente sensibles y que se corresponden con áreas declaradas como protegidas por la aplicación de la normativa vigente.",
 "mapName": "Capas",
 "description": "",
 "copyrightText": "",
 "supportsDynamicLayers": true,
 "layers": [
  {
   "id": 0,
   "name": "Parques eólicos",
   "parentLayerId": -1,
   "defaultVisibility": true,
   "subLayerIds": null,
   "minScale": 0,
   "maxScale": 0,
   "type": "Feature Layer",
   "geometryType": "esriGeometryPolygon"
  }
 ],
 "tables": [],
 "spatialReference": {
  "wkid": 25830,
  "latestWkid": 25830
 },
 "singleFusedMapCache": true,
 "tileInfo": {
  "rows": 256,
  "cols": 256,
  "dpi": 96,
  "format": "PNG32",
  "compressionQuality": 0,
  "origin": {
   "x": -5120900,
   "y": 9998100
  },
  "spatialReference": {
   "wkid": 25830,
   "latestWkid": 25830
  },
  "lods": [
   {
    "level": 0,
    "resolution": 611.4962262813797,
    "scale": 2311162.217155
   },
   {
    "level": 1,
    "resolution": 305.74811314055756,
    "scale": 1155581.108577
   },
   {
    "level": 2,
    "resolution": 152.87405657041106,
    "scale": 577790.554289
   },
   {
    "level": 3,
    "resolution": 76.43702828507324,
    "scale": 288895.277144
   },
   {
    "level": 4,
    "resolution": 38.21851414253662,
    "scale": 144447.638572
   },
   {
    "level": 5,
    "resolution": 19.10925707126831,
    "scale": 72223.819286
   },
   {
    "level": 6,
    "resolution": 9.554628535634155,
    "scale": 36111.909643
   },
   {
    "level": 7,
    "resolution": 4.77731426794937,
    "scale": 18055.954822
   },
   {
    "level": 8,
    "resolution": 2.388657141912201,
    "scale": 9027.977441
   },
   {
    "level": 9,
    "resolution": 1.1943285668550503,
    "scale": 4513.988705
   },
   {
    "level": 10,
    "resolution": 0.5971642835598172,
    "scale": 2256.994353
   }
  ]
 },
 "initialExtent": {
  "xmin": 256601.94237434198,
  "ymin": 4327395.174832822,
  "xmax": 651149.3981359204,
  "ymax": 4529537.24578363,
  "spatialReference": {
   "wkid": 25830,
   "latestWkid": 25830
  }
 },
 "fullExtent": {
  "xmin": 294235.46740000043,
  "ymin": 4208463.1744,
  "xmax": 681272.1851000004,
  "ymax": 4575132.5835,
  "spatialReference": {
   "wkid": 25830,
   "latestWkid": 25830
  }
 },
 "minScale": 2311162.217155,
 "maxScale": 2256.994353,
 "units": "esriMeters",
 "supportedImageFormatTypes": "PNG32,PNG24,PNG,JPG,DIB,TIFF,EMF,PS,PDF,GIF,SVG,SVGZ,BMP",
 "documentInfo": {
  "Title": "",
  "Author": "",
  "Comments": "La Ley 5/2020 de Medidas Urgentes para la Declaración de Proyectos Prioritarios en Castilla - La Mancha, clasifica el territorio de la Comunidad Autónoma en función de los condicionantes ambientales a los que se puede ver sometido un proyecto por su ubicación, sin perjucio de los resultados de los procedimientos de evalución ambiental a que deba someterse cada proyecto:\n\n - ZONAS APTAS: el territorio de la CCAA no incluido en las otras zonas, que cuenta con recursos naturales no sometidos a regulación específica ambiental y por lo tanto es apto para la absorción de proyectos empresariales o industriales.\n\n - ZONAS POTENCIALMENTE APTAS PERO CON LIMITACIONES AMBIENTALES: zonas con recursos naturales de interés general para la protección de determinados valores naturales que deben considerarse aptas para la absorción de determinados proyectos con condicionantes ambientales.\n \n - ZONAS SOMETIDAS A REGULACIÓN ESPECÍFICA AMBIENTAL: zonas que albergan valores ambientales especialmente sensibles y que se corresponden con áreas declaradas como protegidas por la aplicación de la normativa vigente.",
  "Subject": "Clasificación del territorio de Castilla - La Mancha según sus condicionantes ambientales, para la declaración de proyectos prioritarios según la Ley 5/2020.",
  "Category": "",
  "AntialiasingMode": "None",
  "TextAntialiasingMode": "Force",
  "Keywords": "CASTILLA - LA MANCHA. MEDIO NATURAL. PROYECTOS."
 },
 "capabilities": "Map,Query,Data",
 "supportedQueryFormats": "JSON, geoJSON",
 "exportTilesAllowed": false,
 "referenceScale": 0,
 "supportsDatumTransformation": true,
 "maxRecordCount": 1000,
 "maxImageHeight": 4096,
 "maxImageWidth": 4096,
 "supportedExtensions": "KmlServer, WMSServer"
}
